BEGIN:VCALENDAR
VERSION:2.0
PRODID:-//Carolina Elite Athletics - ECPv6.15.20//NONSGML v1.0//EN
CALSCALE:GREGORIAN
METHOD:PUBLISH
X-WR-CALNAME:Carolina Elite Athletics
X-ORIGINAL-URL:https://carolinaeliteinc.com
X-WR-CALDESC:Events for Carolina Elite Athletics
REFRESH-INTERVAL;VALUE=DURATION:PT1H
X-Robots-Tag:noindex
X-PUBLISHED-TTL:PT1H
BEGIN:VTIMEZONE
TZID:UTC
BEGIN:STANDARD
TZOFFSETFROM:+0000
TZOFFSETTO:+0000
TZNAME:UTC
DTSTART:20240101T000000
END:STANDARD
END:VTIMEZONE
BEGIN:VEVENT
DTSTART;TZID=UTC:20250918T170000
DTEND;TZID=UTC:20250918T174500
DTSTAMP:20260421T125728
CREATED:20250828T193952Z
LAST-MODIFIED:20250910T183242Z
UID:10000612-1758214800-1758217500@carolinaeliteinc.com
SUMMARY:Ninja Warrior Ages 4-6
DESCRIPTION:Learn to kick\, dodge\, punch\, and some agility training with our wonderful Coach Scott! \nRegister HERE
URL:https://carolinaeliteinc.com/event/ninja-warrior-ages-4-6/
CATEGORIES:Upcoming Events
ATTACH;FMTTYPE=image/png:https://carolinaeliteinc.com/wp-content/uploads/2025/09/Ninja-Warrior-5-5_45.png
END:VEVENT
END:VCALENDAR