BEGIN:VCALENDAR
VERSION:2.0
PRODID:-//Carolina Elite Athletics - ECPv6.15.20//NONSGML v1.0//EN
CALSCALE:GREGORIAN
METHOD:PUBLISH
X-ORIGINAL-URL:https://carolinaeliteinc.com
X-WR-CALDESC:Events for Carolina Elite Athletics
REFRESH-INTERVAL;VALUE=DURATION:PT1H
X-Robots-Tag:noindex
X-PUBLISHED-TTL:PT1H
BEGIN:VTIMEZONE
TZID:UTC
BEGIN:STANDARD
TZOFFSETFROM:+0000
TZOFFSETTO:+0000
TZNAME:UTC
DTSTART:20250101T000000
END:STANDARD
END:VTIMEZONE
BEGIN:VEVENT
DTSTART;TZID=UTC:20260211T120000
DTEND;TZID=UTC:20260211T130000
DTSTAMP:20260419T120414
CREATED:20260206T154812Z
LAST-MODIFIED:20260206T154817Z
UID:10000673-1770811200-1770814800@carolinaeliteinc.com
SUMMARY:Homeschooling Tumble Pop Up
DESCRIPTION:Homeschool pop up tumble class is a perfect way to get your athlete active and moving during these colder months! \n  \n 
URL:https://carolinaeliteinc.com/event/homeschooling-tumble-pop-up/
CATEGORIES:Upcoming Events
ATTACH;FMTTYPE=image/png:https://carolinaeliteinc.com/wp-content/uploads/2026/02/Homeschool-Tumble-Pop-Up-211-.png
END:VEVENT
END:VCALENDAR